Workbook

Sheet Directions & Deadlines
C1: Directions & Deadlines | H1: Version 1.6 Last Updated: 10/1/2026
C3: Dates that have been struck through have passed the deadline | H3: The addendum is reserved for items dealing with an "emergency matter." Items can be included on the addendum if they meet one or more of the following conditions: (1) the item is time sensitive, (2) the delay will result in the County being in violation of a local, state, or federal law, or (3) the County will incur costs or liability as a result of the delay. All addendum items must be approved by the County Administrator prior to briefing.
C4: Commissioners Court Date | D4: Agenda Deadline for Commissioners Court | E4: Addendum Deadline (Emergency Items Only)
C5: 46301 | D5: 46286 | E5: 46293
C6: 46315 | D6: 46300 | E6: 46307
C7: 46329 | D7: 46314 | E7: 46321
C8: 46343 | D8: 46328 | E8: 46335
C9: 46357 | D9: 46342 | E9: 46349
C10: 46371 | D10: 46356 | E10: 46363
C11: 46392 | D11: 46377 | E11: 46384
C12: 46406 | D12: 46391 | E12: 46398
C13: 46420 | D13: 46405 | E13: 46412
C14: 46434 | D14: 46419 | E14: 46426
C15: 46448 | D15: 46433 | E15: 46440
C16: 46462 | D16: 46447 | E16: 46454
... C26: 46651 | D26: 46636 | E26: 46643
C27: End of Fiscal Year 2027
C28: Click here to view 2026 and 2027 County Holidays

Sheet Full Brief
C1: Commissioners Court Full Brief Template
C2: Please use this section if requesting the Office of Budget and Evaluation (OBE) to submit a full brief on your department's behalf. OBE is charged with briefing those items that contain a budgetary impact to Commissioners Court.
B4: 1 | C4: Background of Issue:
C5: a. | D5: Establish the purpose/origin of issue
C6: b. | D6: Discuss previous history/action that has recently been taken.
C7: c. | D7: Discuss what needs to be done.
C8: Answer the questions listed above here.
B15: 2 | C15: Impact on operations and maintenance: What options/alternatives does the County have? Does the issue:
C16: a. | D16: Increase/improve service?
C17: b. | D17: Increase productivity?
C18: c. | D18: Require additional staff?
C19: d. | D19: Require additional space?
C20: e. | D20: Require the reordering of priorities?
C21: f. | D21: Represent a change in existing policy?
C22: g. | D22: Result in any cost-savings?
C24: Answer the questions listed above here.
B35: 3 | C35: Legal Information (when applicable): Identify /address all relevant legal issues
C36: Answer the questions listed above here.
B43: 4 | C43: Financial Impact/Considerations:
C44: a. | D44: Identify all costs
C45: b. | D45: Explain how costs were derived.
C46: c. | D46: Discuss whether costs represent one-time expenditures or annually recurring costs.
C47: d. | D47: Quantify anticipated cost-savings/increases in productivity
C48: e. | D48: Discuss method for deriving cost-savings/productivity increases.
C49: f. | D49: Identify funding source.
C51: Answer the questions listed above here.
B62: 5 | C62: Project Schedule/implementation: Identify who/what department will be responsible for completing a project/resolving an issue and develop a schedule/identify a date for completing a project/resolving an issue
C64: Answer the questions listed above here.
B71: 6 | C71: Mission, Vision, Values Compliance: Please add how the briefing item reflects the Mission and Vision or how the County values are modeled in the briefing you are submitting:
C73: Answer the questions listed above here.
B80: 7 | C80: SBE Information (when applicable): Outline all relevant SBE information
C82: Answer the questions listed above here.
B89: 8 | C89: Recommendation: State the recommended course of action. If, for instance, memoranda are of an information nature only, then they should state at the conclusion that no further action is needed. The recommendation will generate a Court Order to be considered for action by the Commissioners Court. MUST INCLUDE $ AMOUNT IF SEEKING FUNDING APPROVAL. This information will be included in the Motion as well.
C92: Answer the questions listed above here.
C99: You have reached the end. Please submit the completed form along with any relevant attachments to your assigned budget analyst. If submitting a grant application or grant acceptance, please submit to the OBE Grant Coordinator.
C100: Click here to find your assigned OBE staff

Sheet Misc. Equipment
B1: # | C1: Department | D1: Fund Source | E1: Funding | F1: GL Expense Code | G1: Quantity | H1: Item Description | I1: Unit Cost | J1: Total Cost (rounded) | K1: New / Replacement | L1: Justification
B2: 1 | J2: =IFERROR(ROUNDUP(G2*I2,0),0) -> 0
B3: 2 | J3: =IFERROR(ROUNDUP(G3*I3,0),0) -> 0
B4: 3 | J4: =IFERROR(ROUNDUP(G4*I4,0),0) -> 0
B5: 4 | J5: =IFERROR(ROUNDUP(G5*I5,0),0) -> 0
B6: 5 | J6: =IFERROR(ROUNDUP(G6*I6,0),0) -> 0
B7: 6 | J7: =IFERROR(ROUNDUP(G7*I7,0),0) -> 0
B8: 7 | J8: =IFERROR(ROUNDUP(G8*I8,0),0) -> 0
B9: 8 | J9: =IFERROR(ROUNDUP(G9*I9,0),0) -> 0
B10: 9 | J10: =IFERROR(ROUNDUP(G10*I10,0),0) -> 0
B11: 10 | J11: =IFERROR(ROUNDUP(G11*I11,0),0) -> 0
B12: 11 | J12: =IFERROR(ROUNDUP(G12*I12,0),0) -> 0
B13: 12 | J13: =IFERROR(ROUNDUP(G13*I13,0),0) -> 0
... B101: 100 | J101: =IFERROR(ROUNDUP(G101*I101,0),0) -> 0

Sheet Travel
B1: # | E1: Travel / Training Information | L1: Travel/ Training Costs | W1: Funding Source
C2: Total Cost | D2: Department Name | E2: Attendee Name | F2: Event Name | G2: City | H2: State (XX) | I2: Virtual or In-Person | J2: Travel Start Date (MM/DD/YYYY) | K2: Travel End Date (MM/DD/YYYY) | L2: County Vehicle (Yes/No) | M2: Registration | N2: Airfare | O2: Luggage | P2: Bus | Q2: Rideshare | R2: Car Rental | S2: Lodging | T2: Per Diem | U2: Mileage | V2: Parking | W2: Fund Source Grant Name | X2: Company | Y2: Fund | Z2: Cost Center | AA2: Account | AB2: Function | AC2: Account String | AD2: Company_Hidden | AE2: Fund_hidden | AF2: CostCenter_hidden | AG2: Account_hidden | AH2: Function_hidden
B3: 1 | C3: =SUM(M3:V3) -> 0 | AC3: =_xlfn.CONCAT(TableTravel[[#This Row],[ Company_Hidden]],".",TableTravel[[#This Row],[Fund_hidden]],".",TableTravel[[#This Row],[CostCenter_hidden]],".",TableTravel[[#This Row],[Account_hidden]],".",TableTravel[[#This Row],[Function_hidden]]) -> .... | AD3: =IFERROR(_xlfn.TEXTBEFORE(TableTravel[[#This Row],[Company]]," "),"") | AE3: =IFERROR(_xlfn.TEXTBEFORE(TableTravel[[#This Row],[Fund]]," "),"") | AF3: =IFERROR(_xlfn.TEXTBEFORE(TableTravel[[#This Row],[Cost Center]]," "),"") | AG3: =IFERROR(_xlfn.TEXTBEFORE(TableTravel[[#This Row],[Account]]," "),"") | AH3: =IFERROR(_xlfn.TEXTBEFORE(TableTravel[[#This Row],[Function]]," "),"")
B4: 2 | C4: =SUM(M4:V4) -> 0 | AC4: =_xlfn.CONCAT(TableTravel[[#This Row],[ Company_Hidden]],".",TableTravel[[#This Row],[Fund_hidden]],".",TableTravel[[#This Row],[CostCenter_hidden]],".",TableTravel[[#This Row],[Account_hidden]],".",TableTravel[[#This Row],[Function_hidden]]) -> .... | AD4: =IFERROR(_xlfn.TEXTBEFORE(TableTravel[[#This Row],[Company]]," "),"") | AE4: =IFERROR(_xlfn.TEXTBEFORE(TableTravel[[#This Row],[Fund]]," "),"") | AF4: =IFERROR(_xlfn.TEXTBEFORE(TableTravel[[#This Row],[Cost Center]]," "),"") | AG4: =IFERROR(_xlfn.TEXTBEFORE(TableTravel[[#This Row],[Account]]," "),"") | AH4: =IFERROR(_xlfn.TEXTBEFORE(TableTravel[[#This Row],[Function]]," "),"")
B5: 3 | C5: =SUM(M5:V5) -> 0 | AC5: =_xlfn.CONCAT(TableTravel[[#This Row],[ Company_Hidden]],".",TableTravel[[#This Row],[Fund_hidden]],".",TableTravel[[#This Row],[CostCenter_hidden]],".",TableTravel[[#This Row],[Account_hidden]],".",TableTravel[[#This Row],[Function_hidden]]) -> .... | AD5: =IFERROR(_xlfn.TEXTBEFORE(TableTravel[[#This Row],[Company]]," "),"") | AE5: =IFERROR(_xlfn.TEXTBEFORE(TableTravel[[#This Row],[Fund]]," "),"") | AF5: =IFERROR(_xlfn.TEXTBEFORE(TableTravel[[#This Row],[Cost Center]]," "),"") | AG5: =IFERROR(_xlfn.TEXTBEFORE(TableTravel[[#This Row],[Account]]," "),"") | AH5: =IFERROR(_xlfn.TEXTBEFORE(TableTravel[[#This Row],[Function]]," "),"")
B6: 4 | C6: =SUM(M6:V6) -> 0 | AC6: =_xlfn.CONCAT(TableTravel[[#This Row],[ Company_Hidden]],".",TableTravel[[#This Row],[Fund_hidden]],".",TableTravel[[#This Row],[CostCenter_hidden]],".",TableTravel[[#This Row],[Account_hidden]],".",TableTravel[[#This Row],[Function_hidden]]) -> .... | AD6: =IFERROR(_xlfn.TEXTBEFORE(TableTravel[[#This Row],[Company]]," "),"") | AE6: =IFERROR(_xlfn.TEXTBEFORE(TableTravel[[#This Row],[Fund]]," "),"") | AF6: =IFERROR(_xlfn.TEXTBEFORE(TableTravel[[#This Row],[Cost Center]]," "),"") | AG6: =IFERROR(_xlfn.TEXTBEFORE(TableTravel[[#This Row],[Account]]," "),"") | AH6: =IFERROR(_xlfn.TEXTBEFORE(TableTravel[[#This Row],[Function]]," "),"")
B7: 5 | C7: =SUM(M7:V7) -> 0 | AC7: =_xlfn.CONCAT(TableTravel[[#This Row],[ Company_Hidden]],".",TableTravel[[#This Row],[Fund_hidden]],".",TableTravel[[#This Row],[CostCenter_hidden]],".",TableTravel[[#This Row],[Account_hidden]],".",TableTravel[[#This Row],[Function_hidden]]) -> .... | AD7: =IFERROR(_xlfn.TEXTBEFORE(TableTravel[[#This Row],[Company]]," "),"") | AE7: =IFERROR(_xlfn.TEXTBEFORE(TableTravel[[#This Row],[Fund]]," "),"") | AF7: =IFERROR(_xlfn.TEXTBEFORE(TableTravel[[#This Row],[Cost Center]]," "),"") | AG7: =IFERROR(_xlfn.TEXTBEFORE(TableTravel[[#This Row],[Account]]," "),"") | AH7: =IFERROR(_xlfn.TEXTBEFORE(TableTravel[[#This Row],[Function]]," "),"")
B8: 6 | C8: =SUM(M8:V8) -> 0 | AC8: =_xlfn.CONCAT(TableTravel[[#This Row],[ Company_Hidden]],".",TableTravel[[#This Row],[Fund_hidden]],".",TableTravel[[#This Row],[CostCenter_hidden]],".",TableTravel[[#This Row],[Account_hidden]],".",TableTravel[[#This Row],[Function_hidden]]) -> .... | AD8: =IFERROR(_xlfn.TEXTBEFORE(TableTravel[[#This Row],[Company]]," "),"") | AE8: =IFERROR(_xlfn.TEXTBEFORE(TableTravel[[#This Row],[Fund]]," "),"") | AF8: =IFERROR(_xlfn.TEXTBEFORE(TableTravel[[#This Row],[Cost Center]]," "),"") | AG8: =IFERROR(_xlfn.TEXTBEFORE(TableTravel[[#This Row],[Account]]," "),"") | AH8: =IFERROR(_xlfn.TEXTBEFORE(TableTravel[[#This Row],[Function]]," "),"")
B9: 7 | C9: =SUM(M9:V9) -> 0 | AC9: =_xlfn.CONCAT(TableTravel[[#This Row],[ Company_Hidden]],".",TableTravel[[#This Row],[Fund_hidden]],".",TableTravel[[#This Row],[CostCenter_hidden]],".",TableTravel[[#This Row],[Account_hidden]],".",TableTravel[[#This Row],[Function_hidden]]) -> .... | AD9: =IFERROR(_xlfn.TEXTBEFORE(TableTravel[[#This Row],[Company]]," "),"") | AE9: =IFERROR(_xlfn.TEXTBEFORE(TableTravel[[#This Row],[Fund]]," "),"") | AF9: =IFERROR(_xlfn.TEXTBEFORE(TableTravel[[#This Row],[Cost Center]]," "),"") | AG9: =IFERROR(_xlfn.TEXTBEFORE(TableTravel[[#This Row],[Account]]," "),"") | AH9: =IFERROR(_xlfn.TEXTBEFORE(TableTravel[[#This Row],[Function]]," "),"")
B10: 8 | C10: =SUM(M10:V10) -> 0 | AC10: =_xlfn.CONCAT(TableTravel[[#This Row],[ Company_Hidden]],".",TableTravel[[#This Row],[Fund_hidden]],".",TableTravel[[#This Row],[CostCenter_hidden]],".",TableTravel[[#This Row],[Account_hidden]],".",TableTravel[[#This Row],[Function_hidden]]) -> .... | AD10: =IFERROR(_xlfn.TEXTBEFORE(TableTravel[[#This Row],[Company]]," "),"") | AE10: =IFERROR(_xlfn.TEXTBEFORE(TableTravel[[#This Row],[Fund]]," "),"") | AF10: =IFERROR(_xlfn.TEXTBEFORE(TableTravel[[#This Row],[Cost Center]]," "),"") | AG10: =IFERROR(_xlfn.TEXTBEFORE(TableTravel[[#This Row],[Account]]," "),"") | AH10: =IFERROR(_xlfn.TEXTBEFORE(TableTravel[[#This Row],[Function]]," "),"")
B11: 9 | C11: =SUM(M11:V11) -> 0 | AC11: =_xlfn.CONCAT(TableTravel[[#This Row],[ Company_Hidden]],".",TableTravel[[#This Row],[Fund_hidden]],".",TableTravel[[#This Row],[CostCenter_hidden]],".",TableTravel[[#This Row],[Account_hidden]],".",TableTravel[[#This Row],[Function_hidden]]) -> .... | AD11: =IFERROR(_xlfn.TEXTBEFORE(TableTravel[[#This Row],[Company]]," "),"") | AE11: =IFERROR(_xlfn.TEXTBEFORE(TableTravel[[#This Row],[Fund]]," "),"") | AF11: =IFERROR(_xlfn.TEXTBEFORE(TableTravel[[#This Row],[Cost Center]]," "),"") | AG11: =IFERROR(_xlfn.TEXTBEFORE(TableTravel[[#This Row],[Account]]," "),"") | AH11: =IFERROR(_xlfn.TEXTBEFORE(TableTravel[[#This Row],[Function]]," "),"")
B12: 10 | C12: =SUM(M12:V12) -> 0 | AC12: =_xlfn.CONCAT(TableTravel[[#This Row],[ Company_Hidden]],".",TableTravel[[#This Row],[Fund_hidden]],".",TableTravel[[#This Row],[CostCenter_hidden]],".",TableTravel[[#This Row],[Account_hidden]],".",TableTravel[[#This Row],[Function_hidden]]) -> .... | AD12: =IFERROR(_xlfn.TEXTBEFORE(TableTravel[[#This Row],[Company]]," "),"") | AE12: =IFERROR(_xlfn.TEXTBEFORE(TableTravel[[#This Row],[Fund]]," "),"") | AF12: =IFERROR(_xlfn.TEXTBEFORE(TableTravel[[#This Row],[Cost Center]]," "),"") | AG12: =IFERROR(_xlfn.TEXTBEFORE(TableTravel[[#This Row],[Account]]," "),"") | AH12: =IFERROR(_xlfn.TEXTBEFORE(TableTravel[[#This Row],[Function]]," "),"")
B13: 11 | C13: =SUM(M13:V13) -> 0 | AC13: =_xlfn.CONCAT(TableTravel[[#This Row],[ Company_Hidden]],".",TableTravel[[#This Row],[Fund_hidden]],".",TableTravel[[#This Row],[CostCenter_hidden]],".",TableTravel[[#This Row],[Account_hidden]],".",TableTravel[[#This Row],[Function_hidden]]) -> .... | AD13: =IFERROR(_xlfn.TEXTBEFORE(TableTravel[[#This Row],[Company]]," "),"") | AE13: =IFERROR(_xlfn.TEXTBEFORE(TableTravel[[#This Row],[Fund]]," "),"") | AF13: =IFERROR(_xlfn.TEXTBEFORE(TableTravel[[#This Row],[Cost Center]]," "),"") | AG13: =IFERROR(_xlfn.TEXTBEFORE(TableTravel[[#This Row],[Account]]," "),"") | AH13: =IFERROR(_xlfn.TEXTBEFORE(TableTravel[[#This Row],[Function]]," "),"")
B14: 12 | C14: =SUM(M14:V14) -> 0 | AC14: =_xlfn.CONCAT(TableTravel[[#This Row],[ Company_Hidden]],".",TableTravel[[#This Row],[Fund_hidden]],".",TableTravel[[#This Row],[CostCenter_hidden]],".",TableTravel[[#This Row],[Account_hidden]],".",TableTravel[[#This Row],[Function_hidden]]) -> .... | AD14: =IFERROR(_xlfn.TEXTBEFORE(TableTravel[[#This Row],[Company]]," "),"") | AE14: =IFERROR(_xlfn.TEXTBEFORE(TableTravel[[#This Row],[Fund]]," "),"") | AF14: =IFERROR(_xlfn.TEXTBEFORE(TableTravel[[#This Row],[Cost Center]]," "),"") | AG14: =IFERROR(_xlfn.TEXTBEFORE(TableTravel[[#This Row],[Account]]," "),"") | AH14: =IFERROR(_xlfn.TEXTBEFORE(TableTravel[[#This Row],[Function]]," "),"")
... B99: 97 | C99: =SUM(M99:V99) -> 0 | AC99: =_xlfn.CONCAT(TableTravel[[#This Row],[ Company_Hidden]],".",TableTravel[[#This Row],[Fund_hidden]],".",TableTravel[[#This Row],[CostCenter_hidden]],".",TableTravel[[#This Row],[Account_hidden]],".",TableTravel[[#This Row],[Function_hidden]]) -> .... | AD99: =IFERROR(_xlfn.TEXTBEFORE(TableTravel[[#This Row],[Company]]," "),"") | AE99: =IFERROR(_xlfn.TEXTBEFORE(TableTravel[[#This Row],[Fund]]," "),"") | AF99: =IFERROR(_xlfn.TEXTBEFORE(TableTravel[[#This Row],[Cost Center]]," "),"") | AG99: =IFERROR(_xlfn.TEXTBEFORE(TableTravel[[#This Row],[Account]]," "),"") | AH99: =IFERROR(_xlfn.TEXTBEFORE(TableTravel[[#This Row],[Function]]," "),"")
C100: =SUM(M100:V100) -> 0 | AC100: =_xlfn.CONCAT(TableTravel[[#This Row],[ Company_Hidden]],".",TableTravel[[#This Row],[Fund_hidden]],".",TableTravel[[#This Row],[CostCenter_hidden]],".",TableTravel[[#This Row],[Account_hidden]],".",TableTravel[[#This Row],[Function_hidden]]) -> .... | AD100: =IFERROR(_xlfn.TEXTBEFORE(TableTravel[[#This Row],[Company]]," "),"") | AE100: =IFERROR(_xlfn.TEXTBEFORE(TableTravel[[#This Row],[Fund]]," "),"") | AF100: =IFERROR(_xlfn.TEXTBEFORE(TableTravel[[#This Row],[Cost Center]]," "),"") | AG100: =IFERROR(_xlfn.TEXTBEFORE(TableTravel[[#This Row],[Account]]," "),"") | AH100: =IFERROR(_xlfn.TEXTBEFORE(TableTravel[[#This Row],[Function]]," "),"")

Sheet Non-Compliant
B1: # | C1: Department | D1: Noncompliant Item | E1: Amount | F1: Vendor | G1: Justification | H1: Fund | I1: Cost Center/ Project Number | J1: Funding Source | K1: Invoice Number | L1: Company | M1: Fund | N1: Cost Center | O1: Account | P1: Function | Q1: Account String | R1: Requestor
B2: 1 | Q2: =_xlfn.CONCAT(L2,".",M2,".",N2,".",O2,".",P2) -> ....
B3: 2 | Q3: =_xlfn.CONCAT(L3,".",M3,".",N3,".",O3,".",P3) -> ....
B4: 3 | Q4: =_xlfn.CONCAT(L4,".",M4,".",N4,".",O4,".",P4) -> ....
B5: 4 | Q5: =_xlfn.CONCAT(L5,".",M5,".",N5,".",O5,".",P5) -> ....
B6: 5 | Q6: =_xlfn.CONCAT(L6,".",M6,".",N6,".",O6,".",P6) -> ....
B7: 6 | Q7: =_xlfn.CONCAT(L7,".",M7,".",N7,".",O7,".",P7) -> ....
B8: 7 | Q8: =_xlfn.CONCAT(L8,".",M8,".",N8,".",O8,".",P8) -> ....
B9: 8 | Q9: =_xlfn.CONCAT(L9,".",M9,".",N9,".",O9,".",P9) -> ....
B10: 9 | Q10: =_xlfn.CONCAT(L10,".",M10,".",N10,".",O10,".",P10) -> ....
B11: 10 | Q11: =_xlfn.CONCAT(L11,".",M11,".",N11,".",O11,".",P11) -> ....
B12: 11 | Q12: =_xlfn.CONCAT(L12,".",M12,".",N12,".",O12,".",P12) -> ....
B13: 12 | Q13: =_xlfn.CONCAT(L13,".",M13,".",N13,".",O13,".",P13) -> ....
... B99: 98 | Q99: =_xlfn.CONCAT(L99,".",M99,".",N99,".",O99,".",P99) -> ....

Sheet Facilities
B1: # | C1: Item | D1: Quantity | E1: Funding_source | F1: Fund | G1: Project_Department | H1: Unit_cost | I1: Total | J1: Justification | K1: CAPEX | L1: Transfer | M1: GL_funding | N1: POETA_information | O1: Vendor | P1: Requested_by
B2: 1 | I2: =D2*H2 -> 0
B3: 2 | I3: =D3*H3 -> 0
B4: 3 | I4: =D4*H4 -> 0
B5: 4 | I5: =D5*H5 -> 0
B6: 5 | I6: =D6*H6 -> 0
B7: 6 | I7: =D7*H7 -> 0
B8: 7 | I8: =D8*H8 -> 0
B9: 8 | I9: =D9*H9 -> 0
B10: 9 | I10: =D10*H10 -> 0
B11: 10 | I11: =D11*H11 -> 0
B12: 11 | I12: =D12*H12 -> 0
B13: 12 | I13: =D13*H13 -> 0
... B100: 99 | I100: =D100*H100 -> 0

Sheet Surplus
B1: Requesting Department | C1: Quantity | D1: Item Description | E1: Current Location | F1: Destination Office Name | G1: Destination/Delivery Address

Sheet Lists
A1: Company List | B1: Fund List | C1: Cost Center List | D1: Account List | E1: Function List | G1: State | H1: Abbreviation
A2: 100 - Dallas County | B2: 00000 - Default | C2: 0000 - Default Cost Center | D2: 61010 - Salaries - Official | E2: 10000 - General Government | G2: Alabama | H2: AL
A3: 200 - Community Supervision and Corrections Department (CSCD) | B3: 10500 - Road and Bridge | C3: 1010 - County Judge | D3: 61011 - District Court Judges(Tex. Govt. Code Sec. 659.012(a)(1)) | E3: 10005 - Trust-County Insurance | G3: Alaska | H3: AK
A4: 300 - Dallas County Elections Department | B4: 10501 - Road & Bridge District 1 | C4: 1011 - Truancy Courts | D4: 61012 - Court of Appeals Justices(Tex. Govt. Code Sec. 659.012(a)(2)) | E4: 10015 - Vehicle Inventory Tax | G4: Arizona | H4: AZ
A5: 400 - Dallas County Tax Office | B5: 10502 - Road & Bridge District 2 | C5: 1016 - Planning and Development | D5: 61013 - Supreme Court Justices & Court of Criminal Appeals Judges(Tex. Govt. Code Sec. 659.012(a)(3)) | E5: 10020 - Adullt Safety Net Program (ASNP) | G5: Arkansas | H5: AR
A6: 500 - Dallas County Academy for Academic Excellence | B6: 10503 - Road & Bridge District 3 | C6: 1020 - Commissioners' Court Administrator | D6: 61014 - County Court at Law Judges (Tex. Govt. Code Sec. 25.0005) | E6: 10050 - DC COVID-19 Response | G6: California | H6: CA
B7: 10504 - Road & Bridge District 4 | C7: 1021 - Operation Services - Engineering | D7: 61015 - Probate Court Judges(Tex. Govt. Code Sec. 25.0023) | E7: 10051 - DC COVID-19 Vaccination Center | G7: Colorado | H7: CO
B8: 10505 - Road Reserves | C8: 1022 - Operation Services - Facilities | D8: 61016 - Appointed Directors | E8: 10052 - Hurriance Laura Response | G8: Connecticut | H8: CT
A9: Fund Source | B9: 12000 - General Fund | C9: 1023 - Operation Services - Comm/Central Services | D9: 61020 - Salaries - Assistant | E9: 10053 - Winter Storm Uri | G9: Delaware | H9: DE
A10: General Fund | B10: 12400 - Jury Special Fund | C10: 1024 - Operation Services - Records Mgmt | D10: 61025 - Supplemental Pay | E10: 10054 - Monkey Pox Cleanup Costs | G10: Florida | H10: FL
A11: Permanent Improvement | B11: 12500 - Petit Jury Fund | C11: 1027 - Operation Services - Auto Service Center | D11: 61030 - Salaries - Court Coordinators | E11: 10055 - COVID-19 Eastfield College Vaccination | G11: Georgia | H11: GA
A12: Major Technology | B12: 12600 - Permanent Improvement Fund | C12: 1035 - Tax Assessor/Collector | D12: 61040 - Salaries - Court Reporters | E12: 19017 - General Government | G12: Hawaii | H12: HI
A13: Major Capital Development | B13: 12800 - Adult Probation | C13: 1040 - Human Resource/Civil Service | D13: 61050 - Salaries - Overtime | E13: 10999 - General Government | G13: Idaho | H13: ID
A14: Road and Bridge | B14: 13000 - Election Special Fund | C14: 1041 - HRCS - 52e Employees | D14: 61060 - Salaries - Extra Help | E14: 11470 - General Government | G14: Illinois | H14: IL
A15: Escrow Fund | B15: 16200 - Alternate Dispute Resolution | C15: 1045 - Records Bldg Fitness Center | D15: 61061 - Salaries - Part-time Regular | E15: 11471 - General Government | G15: Indiana | H15: IN
A16: Grant Fund | B16: 16800 - Dallas County Historical Commission | C16: 1050 - County Treasurer | D16: 61062 - Salaries - Part-time Temporary | E16: 11473 - General Government | G16: Iowa | H16: IA
B17: 16900 - Historical Exhibit | C17: 1060 - Office of Budget & Evaluation | D17: 61070 - Automobile Allowance | E17: 11474 - General Government | G17: Kansas | H17: KS
B18: 17000 - Return Check Collection | C18: 1070 - County Auditor | D18: 61080 - Mileage Reimbursement | E18: 11475 - General Government | G18: Kentucky | H18: KY
B19: 18000 - Housing Finance Corp | C19: 1080 - Purchasing | D19: 61090 - Salary Lag Account | E19: 11476 - General Government | G19: Louisiana | H19: LA
B20: 19000 - CMAQ Congestion, Mitigation, & Air Quality | C20: 1082 - Small Business Enterprise(SBE) | D20: 61110 - Social Security | E20: 11477 - General Government | G20: Maine | H20: ME
B21: 19500 - Major Technology Fund | C21: 1090 - IT Data Services | D21: 61111 - FICA_A01111 | E21: 11478 - General Government | G21: Maryland | H21: MD
B22: 19600 - Major Projects | C22: 1210 - Elections | D22: 61112 - Medicare_A01112 | E22: 20000 - Public Welfare | G22: Massachusetts | H22: MA
B23: 20000 - Judicial | C23: 2050 - Texas Cooperative Extension | D23: 61113 - PARS | E23: 20005 - Administration for Immunization | G23: Michigan | H23: MI
B24: 20100 - Technology | C24: 2060 - Veterans Service | D24: 61120 - Sick Leave Payoff | E24: 20010 - Criminal Justice 1115 Waiver | G24: Minnesota | H24: MN
B25: 20200 - Local Government | C25: 2080 - Historical Commission | D25: 61140 - Insurance -Employer | E25: 20015 - Health & Human Service 1115 Wavier | G25: Mississippi | H25: MS
B26: 20300 - Local Official | C26: 2110 - Public Works | D26: 61150 - Fringe Benefits Retirement-Employer | E26: 20020 - 340B Drug Pricing Program | G26: Missouri | H26: MO
B27: 20400 - Record Management | C27: 2115 - PW - Economic Development | D27: 61160 - Unemployment Insurance | E27: 20035 - MWBE General Escrow | G27: Montana | H27: MT
B28: 20500 - Interest and Debt Retirement (Debt Service) Fund | C28: 2510 - Road Precinct #1 | D28: 61190 - Workers Compensation- County | E28: 30000 - Public Safety | G28: Nebraska | H28: NE
... B51: 50000 - Payroll Fund | C51: 3131 - Fugitive Transportation | D51: 62039 - Emergency Foster Care | E51: 31010 - Sheriff E- Accident | G51: Wyoming | H51: WY
B52: 50100 - County Clerk-Special | C52: 3132 - Civil | D52: 62040 - Emergency Food Assistance | E52: 31015 - Print Shop Escrow
B53: 50200 - County Clerk-Trust | C53: 3133 - Patrol | D53: 62041 - Emergency Medical Assistance | E53: 31020 - DC Fire Marshal Inspection Fee
B54: 50300 - District Clerk-Special | C54: 3134 - Criminal Investigation | D54: 62042 - School/Recreation Expense | E54: 31025 - Juror Donations
B55: 50400 - District Clerk-Trust | C55: 3136 - FLEET | D55: 62043 - Residential Placement | E55: 31035 - Juvenile Department General Escrow
B56: 50500 - Sheriff-Special | C56: 3137 - Freeway Management Program | D56: 62044 - Medical Expenses | E56: 31040 - Juvenile Cultural Activities
B57: 50600 - County Clerk Special Trust Fund | C57: 3140 - Detention Services | D57: 62050 - Conference/Staff Development Expense | E57: 31295 - Public Safety
B58: 53200 - ESCROW FUND | C58: 3141 - North Tower | D58: 62080 - Dues & Subscriptions | E58: 32036 - Public Safety
B59: 53400 - DA Restitution | C59: 3142 - West Tower | D59: 62081 - Organizational Dues | E59: 40000 - Judicial
B60: 53500 - District Attorney Forfeiture | C60: 3147 - Central Intake | D60: 62082 - Subscriptions | E60: 40005 - Department of Justice Federal Forfeiture District Attorney
B61: 53700 - Youth Village Special Fund | C61: 3148 - South Tower | D61: 62083 - Refunds | E61: 40006 - Treasury Federal Forfeiture District Attorney
B62: 53800 - DA- Check Processing Fees | C62: 3150 - Classification and Release | D62: 62084 - Reporting Vital Statistics | E62: 40007 - State Forfeiture District Attorney
...

Sheet company_dp
A1: Company
A2: {=TRANSPOSE(_xlfn._xlws.SORT(_xlfn._xlws.FILTER(TableCompany[Company List],ISNUMBER(SEARCH(Travel!X3, TableCompany[Company List])))))} -> 100 - Dallas County | B2: 200 - Community Supervision and Corrections Department (CSCD) | C2: 300 - Dallas County Elections Department | D2: 400 - Dallas County Tax Office | E2: 500 - Dallas County Academy for Academic Excellence
A3: {=TRANSPOSE(_xlfn._xlws.SORT(_xlfn._xlws.FILTER(TableCompany[Company List],ISNUMBER(SEARCH(Travel!X4, TableCompany[Company List])))))} -> 100 - Dallas County | B3: 200 - Community Supervision and Corrections Department (CSCD) | C3: 300 - Dallas County Elections Department | D3: 400 - Dallas County Tax Office | E3: 500 - Dallas County Academy for Academic Excellence
A4: {=TRANSPOSE(_xlfn._xlws.SORT(_xlfn._xlws.FILTER(TableCompany[Company List],ISNUMBER(SEARCH(Travel!X5, TableCompany[Company List])))))} -> 100 - Dallas County | B4: 200 - Community Supervision and Corrections Department (CSCD) | C4: 300 - Dallas County Elections Department | D4: 400 - Dallas County Tax Office | E4: 500 - Dallas County Academy for Academic Excellence
A5: {=TRANSPOSE(_xlfn._xlws.SORT(_xlfn._xlws.FILTER(TableCompany[Company List],ISNUMBER(SEARCH(Travel!X6, TableCompany[Company List])))))} -> 100 - Dallas County | B5: 200 - Community Supervision and Corrections Department (CSCD) | C5: 300 - Dallas County Elections Department | D5: 400 - Dallas County Tax Office | E5: 500 - Dallas County Academy for Academic Excellence
A6: {=TRANSPOSE(_xlfn._xlws.SORT(_xlfn._xlws.FILTER(TableCompany[Company List],ISNUMBER(SEARCH(Travel!X7, TableCompany[Company List])))))} -> 100 - Dallas County | B6: 200 - Community Supervision and Corrections Department (CSCD) | C6: 300 - Dallas County Elections Department | D6: 400 - Dallas County Tax Office | E6: 500 - Dallas County Academy for Academic Excellence
A7: {=TRANSPOSE(_xlfn._xlws.SORT(_xlfn._xlws.FILTER(TableCompany[Company List],ISNUMBER(SEARCH(Travel!X8, TableCompany[Company List])))))} -> 100 - Dallas County | B7: 200 - Community Supervision and Corrections Department (CSCD) | C7: 300 - Dallas County Elections Department | D7: 400 - Dallas County Tax Office | E7: 500 - Dallas County Academy for Academic Excellence
A8: {=TRANSPOSE(_xlfn._xlws.SORT(_xlfn._xlws.FILTER(TableCompany[Company List],ISNUMBER(SEARCH(Travel!X9, TableCompany[Company List])))))} -> 100 - Dallas County | B8: 200 - Community Supervision and Corrections Department (CSCD) | C8: 300 - Dallas County Elections Department | D8: 400 - Dallas County Tax Office | E8: 500 - Dallas County Academy for Academic Excellence
A9: {=TRANSPOSE(_xlfn._xlws.SORT(_xlfn._xlws.FILTER(TableCompany[Company List],ISNUMBER(SEARCH(Travel!X10, TableCompany[Company List])))))} -> 100 - Dallas County | B9: 200 - Community Supervision and Corrections Department (CSCD) | C9: 300 - Dallas County Elections Department | D9: 400 - Dallas County Tax Office | E9: 500 - Dallas County Academy for Academic Excellence
A10: {=TRANSPOSE(_xlfn._xlws.SORT(_xlfn._xlws.FILTER(TableCompany[Company List],ISNUMBER(SEARCH(Travel!X11, TableCompany[Company List])))))} -> 100 - Dallas County | B10: 200 - Community Supervision and Corrections Department (CSCD) | C10: 300 - Dallas County Elections Department | D10: 400 - Dallas County Tax Office | E10: 500 - Dallas County Academy for Academic Excellence
A11: {=TRANSPOSE(_xlfn._xlws.SORT(_xlfn._xlws.FILTER(TableCompany[Company List],ISNUMBER(SEARCH(Travel!X12, TableCompany[Company List])))))} -> 100 - Dallas County | B11: 200 - Community Supervision and Corrections Department (CSCD) | C11: 300 - Dallas County Elections Department | D11: 400 - Dallas County Tax Office | E11: 500 - Dallas County Academy for Academic Excellence
A12: {=TRANSPOSE(_xlfn._xlws.SORT(_xlfn._xlws.FILTER(TableCompany[Company List],ISNUMBER(SEARCH(Travel!X13, TableCompany[Company List])))))} -> 100 - Dallas County | B12: 200 - Community Supervision and Corrections Department (CSCD) | C12: 300 - Dallas County Elections Department | D12: 400 - Dallas County Tax Office | E12: 500 - Dallas County Academy for Academic Excellence
A13: {=TRANSPOSE(_xlfn._xlws.SORT(_xlfn._xlws.FILTER(TableCompany[Company List],ISNUMBER(SEARCH(Travel!X14, TableCompany[Company List])))))} -> 100 - Dallas County | B13: 200 - Community Supervision and Corrections Department (CSCD) | C13: 300 - Dallas County Elections Department | D13: 400 - Dallas County Tax Office | E13: 500 - Dallas County Academy for Academic Excellence
... A98: {=TRANSPOSE(_xlfn._xlws.SORT(_xlfn._xlws.FILTER(TableCompany[Company List],ISNUMBER(SEARCH(Travel!X99, TableCompany[Company List])))))} -> 100 - Dallas County | B98: 200 - Community Supervision and Corrections Department (CSCD) | C98: 300 - Dallas County Elections Department | D98: 400 - Dallas County Tax Office | E98: 500 - Dallas County Academy for Academic Excellence
A99: {=TRANSPOSE(_xlfn._xlws.SORT(_xlfn._xlws.FILTER(TableCompany[Company List],ISNUMBER(SEARCH(Travel!W101, TableCompany[Company List])))))} -> 100 - Dallas County | B99: 200 - Community Supervision and Corrections Department (CSCD) | C99: 300 - Dallas County Elections Department | D99: 400 - Dallas County Tax Office | E99: 500 - Dallas County Academy for Academic Excellence

Sheet fund_dp
A1: Fund
A2: {=TRANSPOSE(_xlfn._xlws.SORT(_xlfn._xlws.FILTER(TableFund[Fund List],ISNUMBER(SEARCH(Travel!Y3, TableFund[Fund List])))))} -> 00000 - Default | B2: 10500 - Road and Bridge | C2: 10501 - Road & Bridge District 1 | D2: 10502 - Road & Bridge District 2 | E2: 10503 - Road & Bridge District 3 | F2: 10504 - Road & Bridge District 4 | G2: 10505 - Road Reserves | H2: 12000 - General Fund | I2: 12400 - Jury Special Fund | J2: 12500 - Petit Jury Fund | K2: 12600 - Permanent Improvement Fund | L2: 12800 - Adult Probation | M2: 13000 - Election Special Fund | N2: 16200 - Alternate Dispute Resolution | O2: 16600 - State Report Interest Fund | P2: 16800 - Dallas County Historical Commission | Q2: 16900 - Historical Exhibit | R2: 17000 - Return Check Collection | S2: 18000 - Housing Finance Corp | T2: 19000 - CMAQ Congestion, Mitigation, & Air Quality | U2: 19500 - Major Technology Fund | V2: 19600 - Major Projects | W2: 20000 - Judicial | X2: 20100 - Technology | Y2: 20200 - Local Government | Z2: 20300 - Local Official | AA2: 20400 - Record Management | AB2: 20500 - Interest and Debt Retirement (Debt Service) Fund | AC2: 21000 - DS Arbitrage Rebate | AD2: 41400 - 1995 Road Bond Fund | AE2: 41500 - 1995A Permanent Impovement | AF2: 41800 - Road Bond Series 1996 | AG2: 42400 - Unlimited Tax Road Bonds Series 2000 | AH2: 42700 - Unlimited Tax Refunding & Improvement Bo | AI2: 43300 - Tax Note Series 2011 | AJ2: 44000 - Tax Note Series 2013 | AK2: 44100 - Combination Tax and Parking Garage Rev C | AL2: 44200 - Certificates of Obligation 2022 | AM2: 46400 - American Rescue Plan | AN2: 46600 - Grant Funds | AO2: 46700 - HUD Section 8 | AP2: 46800 - Charter School Grants | AQ2: 47000 - Law Library Fund | AR2: 47100 - Appellate Judicial System | AS2: 48100 - Unlimited Tax Road Bonds, Series 1988A | AT2: 48200 - Permanent Improvement Bond Series 1988 | AU2: 49000 - Unlimited Tax Road Bond Fund-1985 | AV2: 49200 - 1992 Road Bond Fund | AW2: 49300 - 1992A Permanent Improvement Bond Fund | AX2: 49400 - Unlimited Tax Road Bond Fund-1977 | AY2: 50000 - Payroll Fund | AZ2: 50100 - County Clerk-Special | BA2: 50200 - County Clerk-Trust | BB2: 50300 - District Clerk-Special | BC2: 50400 - District Clerk-Trust | BD2: 50500 - Sheriff-Special | BE2: 50600 - County Clerk Special Trust Fund | BF2: 51500 - Constable-Precinct 8 | BG2: 53200 - ESCROW FUND | BH2: 53400 - DA Restitution | BI2: 53500 - District Attorney Forfeiture | BJ2: 53700 - Youth Village Special Fund | BK2: 53800 - DA- Check Processing Fees | BL2: 54000 - DA Forfeitures-Federal | BM2: 54100 - DA Forfeitures-State | BN2: 54200 - DA Unadjudicated - Police Agencies | BO2: 54300 - Adult Probation-Restitution | BP2: 54400 - DA Forfeitures - Attorney General | BQ2: 54500 - DA Unajudicated-Gambling Statutes | BR2: 54600 - DA Forfeitures-Narcotics | BS2: 54700 - DA-State Forfeiture Fees Other | BT2: 55000 - Justice of the Peace 1-1 Special fund No | BU2: 55100 - Justice of the Peace 1-2 Special Fund No | BV2: 55300 - Justice of the Peace 3-3 Special Fund No | BW2: 55400 - Justice of the Peace 2-1 Special Fund No | BX2: 55500 - Justice of the Peace 2-2 Special Fund No | BY2: 55600 - Justice of the Peace 3-1 Special Fund No | BZ2: 55700 - Justice of the Peace 3-2 Special Fund No | CA2: 55900 - Justice of the Peace 4-1 Special Fund No | CB2: 56000 - Justice of the Peace 4-2 Special Fund No. 560 Bob Whitney*Effective 12-17-01* | CC2: 56100 - Justice of the Peace 5-1 Special Fund No. 561 Luis Sepulveda*Effective 12-17-01* | CD2: 56200 - Justice of the Peace 5-2 Special Fund No. 562 Juan Jasso*Effective 12-17-01* | CE2: 57000 - Dallas County Housing Fin. - 1993 | CF2: 57100 - Dallas County Housing Fin. - 1994 | CG2: 58000 - Constable 1 Special Fund No. 580 Derick Evans*12-17-01* | CH2: 58100 - Constable 2 Special Fund No. 581 Michael Gothard*Effective 12-17-01* | CI2: 58200 - Constable 3 Special Fund No. 582 Rick Richardson*Effective 12-17-01* | CJ2: 58300 - Constable 3-A Special Fund No. 583 Mike | CK2: 58400 - Constable 4 Special Fund No. 584 R. L. Skinner*Effective 12-17-01* | CL2: 58600 - Constable 5 Special Fund No. 586 Michael Orozco*Effective 11-02-18* | CM2: 60000 - DCS - Administration | CN2: 67000 - Credit Card BOA Charge Back | CO2: 70400 - Unallocated Tax | CP2: 76400 - Welfare Food Orders | CQ2: 80200 - Child Support Holding Fund | CR2: 80700 - District Attorney Check Collection | CS2: 80800 - Child Support Clearing | CT2: 82200 - 0 | CU2: 88200 - Cash Receipt pass through Acct. | CV2: 90100 - General Fixed Assets | CW2: 90300 - Internal Service Fund
A3: {=TRANSPOSE(_xlfn._xlws.SORT(_xlfn._xlws.FILTER(TableFund[Fund List],ISNUMBER(SEARCH(Travel!Y4, TableFund[Fund List])))))} -> 00000 - Default | B3: 10500 - Road and Bridge | C3: 10501 - Road & Bridge District 1 | D3: 10502 - Road & Bridge District 2 | E3: 10503 - Road & Bridge District 3 | F3: 10504 - Road & Bridge District 4 | G3: 10505 - Road Reserves | H3: 12000 - General Fund | I3: 12400 - Jury Special Fund | J3: 12500 - Petit Jury Fund | K3: 12600 - Permanent Improvement Fund | L3: 12800 - Adult Probation | M3: 13000 - Election Special Fund | N3: 16200 - Alternate Dispute Resolution | O3: 16600 - State Report Interest Fund | P3: 16800 - Dallas County Historical Commission | Q3: 16900 - Historical Exhibit | R3: 17000 - Return Check Collection | S3: 18000 - Housing Finance Corp | T3: 19000 - CMAQ Congestion, Mitigation, & Air Quality | U3: 19500 - Major Technology Fund | V3: 19600 - Major Projects | W3: 20000 - Judicial | X3: 20100 - Technology | Y3: 20200 - Local Government | Z3: 20300 - Local Official | AA3: 20400 - Record Management | AB3: 20500 - Interest and Debt Retirement (Debt Service) Fund | AC3: 21000 - DS Arbitrage Rebate | AD3: 41400 - 1995 Road Bond Fund | AE3: 41500 - 1995A Permanent Impovement | AF3: 41800 - Road Bond Series 1996 | AG3: 42400 - Unlimited Tax Road Bonds Series 2000 | AH3: 42700 - Unlimited Tax Refunding & Improvement Bo | AI3: 43300 - Tax Note Series 2011 | AJ3: 44000 - Tax Note Series 2013 | AK3: 44100 - Combination Tax and Parking Garage Rev C | AL3: 44200 - Certificates of Obligation 2022 | AM3: 46400 - American Rescue Plan | AN3: 46600 - Grant Funds | AO3: 46700 - HUD Section 8 | AP3: 46800 - Charter School Grants | AQ3: 47000 - Law Library Fund | AR3: 47100 - Appellate Judicial System | AS3: 48100 - Unlimited Tax Road Bonds, Series 1988A | AT3: 48200 - Permanent Improvement Bond Series 1988 | AU3: 49000 - Unlimited Tax Road Bond Fund-1985 | AV3: 49200 - 1992 Road Bond Fund | AW3: 49300 - 1992A Permanent Improvement Bond Fund | AX3: 49400 - Unlimited Tax Road Bond Fund-1977 | AY3: 50000 - Payroll Fund | AZ3: 50100 - County Clerk-Special | BA3: 50200 - County Clerk-Trust | BB3: 50300 - District Clerk-Special | BC3: 50400 - District Clerk-Trust | BD3: 50500 - Sheriff-Special | BE3: 50600 - County Clerk Special Trust Fund | BF3: 51500 - Constable-Precinct 8 | BG3: 53200 - ESCROW FUND | BH3: 53400 - DA Restitution | BI3: 53500 - District Attorney Forfeiture | BJ3: 53700 - Youth Village Special Fund | BK3: 53800 - DA- Check Processing Fees | BL3: 54000 - DA Forfeitures-Federal | BM3: 54100 - DA Forfeitures-State | BN3: 54200 - DA Unadjudicated - Police Agencies | BO3: 54300 - Adult Probation-Restitution | BP3: 54400 - DA Forfeitures - Attorney General | BQ3: 54500 - DA Unajudicated-Gambling Statutes | BR3: 54600 - DA Forfeitures-Narcotics | BS3: 54700 - DA-State Forfeiture Fees Other | BT3: 55000 - Justice of the Peace 1-1 Special fund No | BU3: 55100 - Justice of the Peace 1-2 Special Fund No | BV3: 55300 - Justice of the Peace 3-3 Special Fund No | BW3: 55400 - Justice of the Peace 2-1 Special Fund No | BX3: 55500 - Justice of the Peace 2-2 Special Fund No | BY3: 55600 - Justice of the Peace 3-1 Special Fund No | BZ3: 55700 - Justice of the Peace 3-2 Special Fund No | CA3: 55900 - Justice of the Peace 4-1 Special Fund No | CB3: 56000 - Justice of the Peace 4-2 Special Fund No. 560 Bob Whitney*Effective 12-17-01* | CC3: 56100 - Justice of the Peace 5-1 Special Fund No. 561 Luis Sepulveda*Effective 12-17-01* | CD3: 56200 - Justice of the Peace 5-2 Special Fund No. 562 Juan Jasso*Effective 12-17-01* | CE3: 57000 - Dallas County Housing Fin. - 1993 | CF3: 57100 - Dallas County Housing Fin. - 1994 | CG3: 58000 - Constable 1 Special Fund No. 580 Derick Evans*12-17-01* | CH3: 58100 - Constable 2 Special Fund No. 581 Michael Gothard*Effective 12-17-01* | CI3: 58200 - Constable 3 Special Fund No. 582 Rick Richardson*Effective 12-17-01* | CJ3: 58300 - Constable 3-A Special Fund No. 583 Mike | CK3: 58400 - Constable 4 Special Fund No. 584 R. L. Skinner*Effective 12-17-01* | CL3: 58600 - Constable 5 Special Fund No. 586 Michael Orozco*Effective 11-02-18* | CM3: 60000 - DCS - Administration | CN3: 67000 - Credit Card BOA Charge Back | CO3: 70400 - Unallocated Tax | CP3: 76400 - Welfare Food Orders | CQ3: 80200 - Child Support Holding Fund | CR3: 80700 - District Attorney Check Collection | CS3: 80800 - Child Support Clearing | CT3: 82200 - 0 | CU3: 88200 - Cash Receipt pass through Acct. | CV3: 90100 - General Fixed Assets | CW3: 90300 - Internal Service Fund
A4: {=TRANSPOSE(_xlfn._xlws.SORT(_xlfn._xlws.FILTER(TableFund[Fund List],ISNUMBER(SEARCH(Travel!Y5, TableFund[Fund List])))))} -> 00000 - Default | B4: 10500 - Road and Bridge | C4: 10501 - Road & Bridge District 1 | D4: 10502 - Road & Bridge District 2 | E4: 10503 - Road & Bridge District 3 | F4: 10504 - Road & Bridge District 4 | G4: 10505 - Road Reserves | H4: 12000 - General Fund | I4: 12400 - Jury Special Fund | J4: 12500 - Petit Jury Fund | K4: 12600 - Permanent Improvement Fund | L4: 12800 - Adult Probation | M4: 13000 - Election Special Fund | N4: 16200 - Alternate Dispute Resolution | O4: 16600 - State Report Interest Fund | P4: 16800 - Dallas County Historical Commission | Q4: 16900 - Historical Exhibit | R4: 17000 - Return Check Collection | S4: 18000 - Housing Finance Corp | T4: 19000 - CMAQ Congestion, Mitigation, & Air Quality | U4: 19500 - Major Technology Fund | V4: 19600 - Major Projects | W4: 20000 - Judicial | X4: 20100 - Technology | Y4: 20200 - Local Government | Z4: 20300 - Local Official | AA4: 20400 - Record Management | AB4: 20500 - Interest and Debt Retirement (Debt Service) Fund | AC4: 21000 - DS Arbitrage Rebate | AD4: 41400 - 1995 Road Bond Fund | AE4: 41500 - 1995A Permanent Impovement | AF4: 41800 - Road Bond Series 1996 | AG4: 42400 - Unlimited Tax Road Bonds Series 2000 | AH4: 42700 - Unlimited Tax Refunding & Improvement Bo | AI4: 43300 - Tax Note Series 2011 | AJ4: 44000 - Tax Note Series 2013 | AK4: 44100 - Combination Tax and Parking Garage Rev C | AL4: 44200 - Certificates of Obligation 2022 | AM4: 46400 - American Rescue Plan | AN4: 46600 - Grant Funds | AO4: 46700 - HUD Section 8 | AP4: 46800 - Charter School Grants | AQ4: 47000 - Law Library Fund | AR4: 47100 - Appellate Judicial System | AS4: 48100 - Unlimited Tax Road Bonds, Series 1988A | AT4: 48200 - Permanent Improvement Bond Series 1988 | AU4: 49000 - Unlimited Tax Road Bond Fund-1985 | AV4: 49200 - 1992 Road Bond Fund | AW4: 49300 - 1992A Permanent Improvement Bond Fund | AX4: 49400 - Unlimited Tax Road Bond Fund-1977 | AY4: 50000 - Payroll Fund | AZ4: 50100 - County Clerk-Special | BA4: 50200 - County Clerk-Trust | BB4: 50300 - District Clerk-Special | BC4: 50400 - District Clerk-Trust | BD4: 50500 - Sheriff-Special | BE4: 50600 - County Clerk Special Trust Fund | BF4: 51500 - Constable-Precinct 8 | BG4: 53200 - ESCROW FUND | BH4: 53400 - DA Restitution | BI4: 53500 - District Attorney Forfeiture | BJ4: 53700 - Youth Village Special Fund | BK4: 53800 - DA- Check Processing Fees | BL4: 54000 - DA Forfeitures-Federal | BM4: 54100 - DA Forfeitures-State | BN4: 54200 - DA Unadjudicated - Police Agencies | BO4: 54300 - Adult Probation-Restitution | BP4: 54400 - DA Forfeitures - Attorney General | BQ4: 54500 - DA Unajudicated-Gambling Statutes | BR4: 54600 - DA Forfeitures-Narcotics | BS4: 54700 - DA-State Forfeiture Fees Other | BT4: 55000 - Justice of the Peace 1-1 Special fund No | BU4: 55100 - Justice of the Peace 1-2 Special Fund No | BV4: 55300 - Justice of the Peace 3-3 Special Fund No | BW4: 55400 - Justice of the Peace 2-1 Special Fund No | BX4: 55500 - Justice of the Peace 2-2 Special Fund No | BY4: 55600 - Justice of the Peace 3-1 Special Fund No | BZ4: 55700 - Justice of the Peace 3-2 Special Fund No | CA4: 55900 - Justice of the Peace 4-1 Special Fund No | CB4: 56000 - Justice of the Peace 4-2 Special Fund No. 560 Bob Whitney*Effective 12-17-01* | CC4: 56100 - Justice of the Peace 5-1 Special Fund No. 561 Luis Sepulveda*Effective 12-17-01* | CD4: 56200 - Justice of the Peace 5-2 Special Fund No. 562 Juan Jasso*Effective 12-17-01* | CE4: 57000 - Dallas County Housing Fin. - 1993 | CF4: 57100 - Dallas County Housing Fin. - 1994 | CG4: 58000 - Constable 1 Special Fund No. 580 Derick Evans*12-17-01* | CH4: 58100 - Constable 2 Special Fund No. 581 Michael Gothard*Effective 12-17-01* | CI4: 58200 - Constable 3 Special Fund No. 582 Rick Richardson*Effective 12-17-01* | CJ4: 58300 - Constable 3-A Special Fund No. 583 Mike | CK4: 58400 - Constable 4 Special Fund No. 584 R. L. Skinner*Effective 12-17-01* | CL4: 58600 - Constable 5 Special Fund No. 586 Michael Orozco*Effective 11-02-18* | CM4: 60000 - DCS - Administration | CN4: 67000 - Credit Card BOA Charge Back | CO4: 70400 - Unallocated Tax | CP4: 76400 - Welfare Food Orders | CQ4: 80200 - Child Support Holding Fund | CR4: 80700 - District Attorney Check Collection | CS4: 80800 - Child Support Clearing | CT4: 82200 - 0 | CU4: 88200 - Cash Receipt pass through Acct. | CV4: 90100 - General Fixed Assets | CW4: 90300 - Internal Service Fund
A5: {=TRANSPOSE(_xlfn._xlws.SORT(_xlfn._xlws.FILTER(TableFund[Fund List],ISNUMBER(SEARCH(Travel!Y6, TableFund[Fund List])))))} -> 00000 - Default | B5: 10500 - Road and Bridge | C5: 10501 - Road & Bridge District 1 | D5: 10502 - Road & Bridge District 2 | E5: 10503 - Road & Bridge District 3 | F5: 10504 - Road & Bridge District 4 | G5: 10505 - Road Reserves | H5: 12000 - General Fund | I5: 12400 - Jury Special Fund | J5: 12500 - Petit Jury Fund | K5: 12600 - Permanent Improvement Fund | L5: 12800 - Adult Probation | M5: 13000 - Election Special Fund | N5: 16200 - Alternate Dispute Resolution | O5: 16600 - State Report Interest Fund | P5: 16800 - Dallas County Historical Commission | Q5: 16900 - Historical Exhibit | R5: 17000 - Return Check Collection | S5: 18000 - Housing Finance Corp | T5: 19000 - CMAQ Congestion, Mitigation, & Air Quality | U5: 19500 - Major Technology Fund | V5: 19600 - Major Projects | W5: 20000 - Judicial | X5: 20100 - Technology | Y5: 20200 - Local Government | Z5: 20300 - Local Official | AA5: 20400 - Record Management | AB5: 20500 - Interest and Debt Retirement (Debt Service) Fund | AC5: 21000 - DS Arbitrage Rebate | AD5: 41400 - 1995 Road Bond Fund | AE5: 41500 - 1995A Permanent Impovement | AF5: 41800 - Road Bond Series 1996 | AG5: 42400 - Unlimited Tax Road Bonds Series 2000 | AH5: 42700 - Unlimited Tax Refunding & Improvement Bo | AI5: 43300 - Tax Note Series 2011 | AJ5: 44000 - Tax Note Series 2013 | AK5: 44100 - Combination Tax and Parking Garage Rev C | AL5: 44200 - Certificates of Obligation 2022 | AM5: 46400 - American Rescue Plan | AN5: 46600 - Grant Funds | AO5: 46700 - HUD Section 8 | AP5: 46800 - Charter School Grants | AQ5: 47000 - Law Library Fund | AR5: 47100 - Appellate Judicial System | AS5: 48100 - Unlimited Tax Road Bonds, Series 1988A | AT5: 48200 - Permanent Improvement Bond Series 1988 | AU5: 49000 - Unlimited Tax Road Bond Fund-1985 | AV5: 49200 - 1992 Road Bond Fund | AW5: 49300 - 1992A Permanent Improvement Bond Fund | AX5: 49400 - Unlimited Tax Road Bond Fund-1977 | AY5: 50000 - Payroll Fund | AZ5: 50100 - County Clerk-Special | BA5: 50200 - County Clerk-Trust | BB5: 50300 - District Clerk-Special | BC5: 50400 - District Clerk-Trust | BD5: 50500 - Sheriff-Special | BE5: 50600 - County Clerk Special Trust Fund | BF5: 51500 - Constable-Precinct 8 | BG5: 53200 - ESCROW FUND | BH5: 53400 - DA Restitution | BI5: 53500 - District Attorney Forfeiture | BJ5: 53700 - Youth Village Special Fund | BK5: 53800 - DA- Check Processing Fees | BL5: 54000 - DA Forfeitures-Federal | BM5: 54100 - DA Forfeitures-State | BN5: 54200 - DA Unadjudicated - Police Agencies | BO5: 54300 - Adult Probation-Restitution | BP5: 54400 - DA Forfeitures - Attorney General | BQ5: 54500 - DA Unajudicated-Gambling Statutes | BR5: 54600 - DA Forfeitures-Narcotics | BS5: 54700 - DA-State Forfeiture Fees Other | BT5: 55000 - Justice of the Peace 1-1 Special fund No | BU5: 55100 - Justice of the Peace 1-2 Special Fund No | BV5: 55300 - Justice of the Peace 3-3 Special Fund No | BW5: 55400 - Justice of the Peace 2-1 Special Fund No | BX5: 55500 - Justice of the Peace 2-2 Special Fund No | BY5: 55600 - Justice of the Peace 3-1 Special Fund No | BZ5: 55700 - Justice of the Peace 3-2 Special Fund No | CA5: 55900 - Justice of the Peace 4-1 Special Fund No | CB5: 56000 - Justice of the Peace 4-2 Special Fund No. 560 Bob Whitney*Effective 12-17-01* | CC5: 56100 - Justice of the Peace 5-1 Special Fund No. 561 Luis Sepulveda*Effective 12-17-01* | CD5: 56200 - Justice of the Peace 5-2 Special Fund No. 562 Juan Jasso*Effective 12-17-01* | CE5: 57000 - Dallas County Housing Fin. - 1993 | CF5: 57100 - Dallas County Housing Fin. - 1994 | CG5: 58000 - Constable 1 Special Fund No. 580 Derick Evans*12-17-01* | CH5: 58100 - Constable 2 Special Fund No. 581 Michael Gothard*Effective 12-17-01* | CI5: 58200 - Constable 3 Special Fund No. 582 Rick Richardson*Effective 12-17-01* | CJ5: 58300 - Constable 3-A Special Fund No. 583 Mike | CK5: 58400 - Constable 4 Special Fund No. 584 R. L. Skinner*Effective 12-17-01* | CL5: 58600 - Constable 5 Special Fund No. 586 Michael Orozco*Effective 11-02-18* | CM5: 60000 - DCS - Administration | CN5: 67000 - Credit Card BOA Charge Back | CO5: 70400 - Unallocated Tax | CP5: 76400 - Welfare Food Orders | CQ5: 80200 - Child Support Holding Fund | CR5: 80700 - District Attorney Check Collection | CS5: 80800 - Child Support Clearing | CT5: 82200 - 0 | CU5: 88200 - Cash Receipt pass through Acct. | CV5: 90100 - General Fixed Assets | CW5: 90300 - Internal Service Fund
A6: {=TRANSPOSE(_xlfn._xlws.SORT(_xlfn._xlws.FILTER(TableFund[Fund List],ISNUMBER(SEARCH(Travel!Y7, TableFund[Fund List])))))} -> 00000 - Default | B6: 10500 - Road and Bridge | C6: 10501 - Road & Bridge District 1 | D6: 10502 - Road & Bridge District 2 | E6: 10503 - Road & Bridge District 3 | F6: 10504 - Road & Bridge District 4 | G6: 10505 - Road Reserves | H6: 12000 - General Fund | I6: 12400 - Jury Special Fund | J6: 12500 - Petit Jury Fund | K6: 12600 - Permanent Improvement Fund | L6: 12800 - Adult Probation | M6: 13000 - Election Special Fund | N6: 16200 - Alternate Dispute Resolution | O6: 16600 - State Report Interest Fund | P6: 16800 - Dallas County Historical Commission | Q6: 16900 - Historical Exhibit | R6: 17000 - Return Check Collection | S6: 18000 - Housing Finance Corp | T6: 19000 - CMAQ Congestion, Mitigation, & Air Quality | U6: 19500 - Major Technology Fund | V6: 19600 - Major Projects | W6: 20000 - Judicial | X6: 20100 - Technology | Y6: 20200 - Local Government | Z6: 20300 - Local Official | AA6: 20400 - Record Management | AB6: 20500 - Interest and Debt Retirement (Debt Service) Fund | AC6: 21000 - DS Arbitrage Rebate | AD6: 41400 - 1995 Road Bond Fund | AE6: 41500 - 1995A Permanent Impovement | AF6: 41800 - Road Bond Series 1996 | AG6: 42400 - Unlimited Tax Road Bonds Series 2000 | AH6: 42700 - Unlimited Tax Refunding & Improvement Bo | AI6: 43300 - Tax Note Series 2011 | AJ6: 44000 - Tax Note Series 2013 | AK6: 44100 - Combination Tax and Parking Garage Rev C | AL6: 44200 - Certificates of Obligation 2022 | AM6: 46400 - American Rescue Plan | AN6: 46600 - Grant Funds | AO6: 46700 - HUD Section 8 | AP6: 46800 - Charter School Grants | AQ6: 47000 - Law Library Fund | AR6: 47100 - Appellate Judicial System | AS6: 48100 - Unlimited Tax Road Bonds, Series 1988A | AT6: 48200 - Permanent Improvement Bond Series 1988 | AU6: 49000 - Unlimited Tax Road Bond Fund-1985 | AV6: 49200 - 1992 Road Bond Fund | AW6: 49300 - 1992A Permanent Improvement Bond Fund | AX6: 49400 - Unlimited Tax Road Bond Fund-1977 | AY6: 50000 - Payroll Fund | AZ6: 50100 - County Clerk-Special | BA6: 50200 - County Clerk-Trust | BB6: 50300 - District Clerk-Special | BC6: 50400 - District Clerk-Trust | BD6: 50500 - Sheriff-Special | BE6: 50600 - County Clerk Special Trust Fund | BF6: 51500 - Constable-Precinct 8 | BG6: 53200 - ESCROW FUND | BH6: 53400 - DA Restitution | BI6: 53500 - District Attorney Forfeiture | BJ6: 53700 - Youth Village Special Fund | BK6: 53800 - DA- Check Processing Fees | BL6: 54000 - DA Forfeitures-Federal | BM6: 54100 - DA Forfeitures-State | BN6: 54200 - DA Unadjudicated - Police Agencies | BO6: 54300 - Adult Probation-Restitution | BP6: 54400 - DA Forfeitures - Attorney General | BQ6: 54500 - DA Unajudicated-Gambling Statutes | BR6: 54600 - DA Forfeitures-Narcotics | BS6: 54700 - DA-State Forfeiture Fees Other | BT6: 55000 - Justice of the Peace 1-1 Special fund No | BU6: 55100 - Justice of the Peace 1-2 Special Fund No | BV6: 55300 - Justice of the Peace 3-3 Special Fund No | BW6: 55400 - Justice of the Peace 2-1 Special Fund No | BX6: 55500 - Justice of the Peace 2-2 Special Fund No | BY6: 55600 - Justice of the Peace 3-1 Special Fund No | BZ6: 55700 - Justice of the Peace 3-2 Special Fund No | CA6: 55900 - Justice of the Peace 4-1 Special Fund No | CB6: 56000 - Justice of the Peace 4-2 Special Fund No. 560 Bob Whitney*Effective 12-17-01* | CC6: 56100 - Justice of the Peace 5-1 Special Fund No. 561 Luis Sepulveda*Effective 12-17-01* | CD6: 56200 - Justice of the Peace 5-2 Special Fund No. 562 Juan Jasso*Effective 12-17-01* | CE6: 57000 - Dallas County Housing Fin. - 1993 | CF6: 57100 - Dallas County Housing Fin. - 1994 | CG6: 58000 - Constable 1 Special Fund No. 580 Derick Evans*12-17-01* | CH6: 58100 - Constable 2 Special Fund No. 581 Michael Gothard*Effective 12-17-01* | CI6: 58200 - Constable 3 Special Fund No. 582 Rick Richardson*Effective 12-17-01* | CJ6: 58300 - Constable 3-A Special Fund No. 583 Mike | CK6: 58400 - Constable 4 Special Fund No. 584 R. L. Skinner*Effective 12-17-01* | CL6: 58600 - Constable 5 Special Fund No. 586 Michael Orozco*Effective 11-02-18* | CM6: 60000 - DCS - Administration | CN6: 67000 - Credit Card BOA Charge Back | CO6: 70400 - Unallocated Tax | CP6: 76400 - Welfare Food Orders | CQ6: 80200 - Child Support Holding Fund | CR6: 80700 - District Attorney Check Collection | CS6: 80800 - Child Support Clearing | CT6: 82200 - 0 | CU6: 88200 - Cash Receipt pass through Acct. | CV6: 90100 - General Fixed Assets | CW6: 90300 - Internal Service Fund
A7: {=TRANSPOSE(_xlfn._xlws.SORT(_xlfn._xlws.FILTER(TableFund[Fund List],ISNUMBER(SEARCH(Travel!Y8, TableFund[Fund List])))))} -> 00000 - Default | B7: 10500 - Road and Bridge | C7: 10501 - Road & Bridge District 1 | D7: 10502 - Road & Bridge District 2 | E7: 10503 - Road & Bridge District 3 | F7: 10504 - Road & Bridge District 4 | G7: 10505 - Road Reserves | H7: 12000 - General Fund | I7: 12400 - Jury Special Fund | J7: 12500 - Petit Jury Fund | K7: 12600 - Permanent Improvement Fund | L7: 12800 - Adult Probation | M7: 13000 - Election Special Fund | N7: 16200 - Alternate Dispute Resolution | O7: 16600 - State Report Interest Fund | P7: 16800 - Dallas County Historical Commission | Q7: 16900 - Historical Exhibit | R7: 17000 - Return Check Collection | S7: 18000 - Housing Finance Corp | T7: 19000 - CMAQ Congestion, Mitigation, & Air Quality | U7: 19500 - Major Technology Fund | V7: 19600 - Major Projects | W7: 20000 - Judicial | X7: 20100 - Technology | Y7: 20200 - Local Government | Z7: 20300 - Local Official | AA7: 20400 - Record Management | AB7: 20500 - Interest and Debt Retirement (Debt Service) Fund | AC7: 21000 - DS Arbitrage Rebate | AD7: 41400 - 1995 Road Bond Fund | AE7: 41500 - 1995A Permanent Impovement | AF7: 41800 - Road Bond Series 1996 | AG7: 42400 - Unlimited Tax Road Bonds Series 2000 | AH7: 42700 - Unlimited Tax Refunding & Improvement Bo | AI7: 43300 - Tax Note Series 2011 | AJ7: 44000 - Tax Note Series 2013 | AK7: 44100 - Combination Tax and Parking Garage Rev C | AL7: 44200 - Certificates of Obligation 2022 | AM7: 46400 - American Rescue Plan | AN7: 46600 - Grant Funds | AO7: 46700 - HUD Section 8 | AP7: 46800 - Charter School Grants | AQ7: 47000 - Law Library Fund | AR7: 47100 - Appellate Judicial System | AS7: 48100 - Unlimited Tax Road Bonds, Series 1988A | AT7: 48200 - Permanent Improvement Bond Series 1988 | AU7: 49000 - Unlimited Tax Road Bond Fund-1985 | AV7: 49200 - 1992 Road Bond Fund | AW7: 49300 - 1992A Permanent Improvement Bond Fund | AX7: 49400 - Unlimited Tax Road Bond Fund-1977 | AY7: 50000 - Payroll Fund | AZ7: 50100 - County Clerk-Special | BA7: 50200 - County Clerk-Trust | BB7: 50300 - District Clerk-Special | BC7: 50400 - District Clerk-Trust | BD7: 50500 - Sheriff-Special | BE7: 50600 - County Clerk Special Trust Fund | BF7: 51500 - Constable-Precinct 8 | BG7: 53200 - ESCROW FUND | BH7: 53400 - DA Restitution | BI7: 53500 - District Attorney Forfeiture | BJ7: 53700 - Youth Village Special Fund | BK7: 53800 - DA- Check Processing Fees | BL7: 54000 - DA Forfeitures-Federal | BM7: 54100 - DA Forfeitures-State | BN7: 54200 - DA Unadjudicated - Police Agencies | BO7: 54300 - Adult Probation-Restitution | BP7: 54400 - DA Forfeitures - Attorney General | BQ7: 54500 - DA Unajudicated-Gambling Statutes | BR7: 54600 - DA Forfeitures-Narcotics | BS7: 54700 - DA-State Forfeiture Fees Other | BT7: 55000 - Justice of the Peace 1-1 Special fund No | BU7: 55100 - Justice of the Peace 1-2 Special Fund No | BV7: 55300 - Justice of the Peace 3-3 Special Fund No | BW7: 55400 - Justice of the Peace 2-1 Special Fund No | BX7: 55500 - Justice of the Peace 2-2 Special Fund No | BY7: 55600 - Justice of the Peace 3-1 Special Fund No | BZ7: 55700 - Justice of the Peace 3-2 Special Fund No | CA7: 55900 - Justice of the Peace 4-1 Special Fund No | CB7: 56000 - Justice of the Peace 4-2 Special Fund No. 560 Bob Whitney*Effective 12-17-01* | CC7: 56100 - Justice of the Peace 5-1 Special Fund No. 561 Luis Sepulveda*Effective 12-17-01* | CD7: 56200 - Justice of the Peace 5-2 Special Fund No. 562 Juan Jasso*Effective 12-17-01* | CE7: 57000 - Dallas County Housing Fin. - 1993 | CF7: 57100 - Dallas County Housing Fin. - 1994 | CG7: 58000 - Constable 1 Special Fund No. 580 Derick Evans*12-17-01* | CH7: 58100 - Constable 2 Special Fund No. 581 Michael Gothard*Effective 12-17-01* | CI7: 58200 - Constable 3 Special Fund No. 582 Rick Richardson*Effective 12-17-01* | CJ7: 58300 - Constable 3-A Special Fund No. 583 Mike | CK7: 58400 - Constable 4 Special Fund No. 584 R. L. Skinner*Effective 12-17-01* | CL7: 58600 - Constable 5 Special Fund No. 586 Michael Orozco*Effective 11-02-18* | CM7: 60000 - DCS - Administration | CN7: 67000 - Credit Card BOA Charge Back | CO7: 70400 - Unallocated Tax | CP7: 76400 - Welfare Food Orders | CQ7: 80200 - Child Support Holding Fund | CR7: 80700 - District Attorney Check Collection | CS7: 80800 - Child Support Clearing | CT7: 82200 - 0 | CU7: 88200 - Cash Receipt pass through Acct. | CV7: 90100 - General Fixed Assets | CW7: 90300 - Internal Service Fund
